BEGIN:VCALENDAR
VERSION:2.0
PRODID:-//Marx21 - ECPv6.15.17.1//NONSGML v1.0//EN
CALSCALE:GREGORIAN
METHOD:PUBLISH
X-ORIGINAL-URL:https://marx21.ch
X-WR-CALDESC:Évènements pour Marx21
REFRESH-INTERVAL;VALUE=DURATION:PT1H
X-Robots-Tag:noindex
X-PUBLISHED-TTL:PT1H
BEGIN:VTIMEZONE
TZID:Europe/Zurich
BEGIN:DAYLIGHT
TZOFFSETFROM:+0100
TZOFFSETTO:+0200
TZNAME:CEST
DTSTART:20240331T010000
END:DAYLIGHT
BEGIN:STANDARD
TZOFFSETFROM:+0200
TZOFFSETTO:+0100
TZNAME:CET
DTSTART:20241027T010000
END:STANDARD
BEGIN:DAYLIGHT
TZOFFSETFROM:+0100
TZOFFSETTO:+0200
TZNAME:CEST
DTSTART:20250330T010000
END:DAYLIGHT
BEGIN:STANDARD
TZOFFSETFROM:+0200
TZOFFSETTO:+0100
TZNAME:CET
DTSTART:20251026T010000
END:STANDARD
BEGIN:DAYLIGHT
TZOFFSETFROM:+0100
TZOFFSETTO:+0200
TZNAME:CEST
DTSTART:20260329T010000
END:DAYLIGHT
BEGIN:STANDARD
TZOFFSETFROM:+0200
TZOFFSETTO:+0100
TZNAME:CET
DTSTART:20261025T010000
END:STANDARD
END:VTIMEZONE
BEGIN:VEVENT
DTSTART;VALUE=DATE:20250905
DTEND;VALUE=DATE:20250908
DTSTAMP:20260419T213533
CREATED:20250825T220148Z
LAST-MODIFIED:20250825T220644Z
UID:3931-1757030400-1757289599@marx21.ch
SUMMARY:Écosocialisme 2025 – De la colère à la riposte
DESCRIPTION:Rendez-vous le week-end des 5\, 6 et 7 septembre pour nos rencontres anticapitalistes\, en résidentiel à la Maison N.-D. du Chant d’Oiseaux (Av. des Franciscains 3A\, 1150 Bruxelles). Un évènement organisé par la Gauche anticapitaliste et la Formation Léon Lesoil. \nNous vivons une période de bascule. Trump 2.0. accélère la décomposition du capitalisme à l’échelle internationale : fragmentations géo-économiques et guerre commerciale\, accroissement des rivalités inter-impérialistes avec leur lot de guerres – comme par exemple le génocide à Gaza et l’invasion de l’Ukraine – et de violences\, notamment envers les femmes*\, la catastrophe écologique dont les effets se font toujours plus concrets (incendies\, sécheresses) et la montée de l’extrême droite constituent les données d’un monde de plus en plus dangereux. En Belgique\, le gouvernement Arizona organise une offensive autoritaire sans précédent\, et cherche à faire payer aux classes populaires le prix de la crise du capitalisme néolibéral. Mais cette offensive ne s’opère pas sans résistance : partout la classe travailleuse\, les femmes\, les racisé·es\, les peuples du Sud\, les jeunes luttent contre la catastrophe\, et pour une autre société. \nPour sortir des impasses\, on a besoin de se retrouver\, de tisser des liens et de parler de fond : comment s’organiser pour frapper ensemble ? Quelle est l’actualité des outils du marxisme pour nos luttes ? Comment s’orienter dans une période si sombre ? Comment tracer les lignes d’une société écosocialiste\, dans laquelle nous définirions démocratiquement nos besoins ? Autant de questions que nous aurons l’occasion d’aborder ensemble lors de cette journée. Ce sera aussi un moment convivial pour discuter\, échanger\, rire et passer du bon temps tou·te·s ensemble. \nInscriptionsPour une meilleure organisation\, il est nécessaire de s’inscrire avant le dimanche 31 aout à minuit. Les inscriptions se font uniquement en remplissant le formulaire ici et en effectuant le paiement par virement bancaire sur le compte Formation Léon Lesoil BE68 7320 4316 3334. \nMerci de mentionner dans la communication : ECOSOCIALISME 2025 + nom et prénom de la personne participante. \nOrganiser un tel événement demande des forces militantes et des ressources financières. C’est pourquoi nous demandons une participation payante afin de nous aider à maintenir le budget du week-end. Les tarifs sont adaptés en fonction de la situation de chacun·e selon trois échelle de prix et selon les services demandés : nuitées\, repas sur place\, etc. Vous trouverez les différentes formules de prix dans cette grille tarifaire. \nL’argent ne doit en aucun cas être un frein à la participation ! Si le tarif te semble vraiment inabordable\, contacte-nous. Par contre\, si tu en as les moyens\, n’hésite pas à verser un tarif de soutien\, ça permettra une participation solidaire entre toutes et tous. \nTu as des questions\, des doutes\, un besoin d’éclaircissements ? N’hésite pas à l’indiquer dans le formulaire ou à nous écrire à info@gaucheanticapitaliste.org \nVoir le programme ici.
URL:https://marx21.ch/evenement/ecosocialisme-2025-de-la-colere-a-la-riposte/
CATEGORIES:Événement
ATTACH;FMTTYPE=image/jpeg:https://marx21.ch/wp-content/uploads/2025/08/ES25-save-the-date-facebook-1280x640-1.jpg
END:VEVENT
END:VCALENDAR